BEGIN:VCALENDAR
VERSION:2.0
PRODID:-//Tukios.com/
BEGIN:VEVENT
UID:b1daf823-0ed4-40bd-95dc-64ee3393ac50@www.thethompsonfuneralhome.com
DTSTAMP:20260419T214157Z
DTSTART:20260424T140000Z
DTEND:20260424T150000Z
SUMMARY:Visitation
DESCRIPTION:
URL:https://www.thethompsonfuneralhome.com/obituaries/william-camp
LOCATION: 204 East Main Street  Montpelier OH 43543
GEO:41.586136;-84.605677
END:VEVENT
END:VCALENDAR