BEGIN:VCALENDAR
VERSION:2.0
PRODID:-//Tukios.com/
BEGIN:VEVENT
UID:ab699837-b024-4618-9e74-be5724201b2f@www.thethompsonfuneralhome.com
DTSTAMP:20260419T214714Z
DTSTART:20260424T150000Z
DTEND:20260424T160000Z
SUMMARY:Funeral Service
DESCRIPTION:
URL:https://www.thethompsonfuneralhome.com/obituaries/william-camp
LOCATION: 204 East Main Street  Montpelier OH 43543
GEO:41.586136;-84.605677
END:VEVENT
END:VCALENDAR